BEGIN:VCALENDAR
VERSION:2.0
PRODID:-//De Mussen - ECPv6.15.20//NONSGML v1.0//EN
CALSCALE:GREGORIAN
METHOD:PUBLISH
X-WR-CALNAME:De Mussen
X-ORIGINAL-URL:https://www.demussen.nl
X-WR-CALDESC:Evenementen voor De Mussen
REFRESH-INTERVAL;VALUE=DURATION:PT1H
X-Robots-Tag:noindex
X-PUBLISHED-TTL:PT1H
BEGIN:VTIMEZONE
TZID:Europe/Amsterdam
BEGIN:DAYLIGHT
TZOFFSETFROM:+0100
TZOFFSETTO:+0200
TZNAME:CEST
DTSTART:20250330T010000
END:DAYLIGHT
BEGIN:STANDARD
TZOFFSETFROM:+0200
TZOFFSETTO:+0100
TZNAME:CET
DTSTART:20251026T010000
END:STANDARD
BEGIN:DAYLIGHT
TZOFFSETFROM:+0100
TZOFFSETTO:+0200
TZNAME:CEST
DTSTART:20260329T010000
END:DAYLIGHT
BEGIN:STANDARD
TZOFFSETFROM:+0200
TZOFFSETTO:+0100
TZNAME:CET
DTSTART:20261025T010000
END:STANDARD
BEGIN:DAYLIGHT
TZOFFSETFROM:+0100
TZOFFSETTO:+0200
TZNAME:CEST
DTSTART:20270328T010000
END:DAYLIGHT
BEGIN:STANDARD
TZOFFSETFROM:+0200
TZOFFSETTO:+0100
TZNAME:CET
DTSTART:20271031T010000
END:STANDARD
END:VTIMEZONE
BEGIN:VEVENT
DTSTART;TZID=Europe/Amsterdam:20260423T083000
DTEND;TZID=Europe/Amsterdam:20260423T114500
DTSTAMP:20260423T123126
CREATED:20260104T144628Z
LAST-MODIFIED:20260104T144628Z
UID:10026468-1776933000-1776944700@www.demussen.nl
SUMMARY:Peuteropvang
DESCRIPTION:
URL:https://www.demussen.nl/event/peuteropvang/2026-04-23/
END:VEVENT
BEGIN:VEVENT
DTSTART;TZID=Europe/Amsterdam:20260423T093000
DTEND;TZID=Europe/Amsterdam:20260423T103000
DTSTAMP:20260423T123126
CREATED:20260103T163019Z
LAST-MODIFIED:20260103T163019Z
UID:10025735-1776936600-1776940200@www.demussen.nl
SUMMARY:Body shape
DESCRIPTION:
URL:https://www.demussen.nl/event/body-shape/2026-04-23/
END:VEVENT
BEGIN:VEVENT
DTSTART;TZID=Europe/Amsterdam:20260423T093000
DTEND;TZID=Europe/Amsterdam:20260423T110000
DTSTAMP:20260423T123126
CREATED:20260104T140401Z
LAST-MODIFIED:20260104T140401Z
UID:10026102-1776936600-1776942000@www.demussen.nl
SUMMARY:Spreekuur Schilderswijk Moeders
DESCRIPTION:
URL:https://www.demussen.nl/event/spreekuur-schilderswijk-moeders/2026-04-23/
END:VEVENT
BEGIN:VEVENT
DTSTART;TZID=Europe/Amsterdam:20260423T093000
DTEND;TZID=Europe/Amsterdam:20260423T113000
DTSTAMP:20260423T123126
CREATED:20260104T142629Z
LAST-MODIFIED:20260104T142629Z
UID:10026237-1776936600-1776943800@www.demussen.nl
SUMMARY:Conversatieles (A2-B1)
DESCRIPTION:
URL:https://www.demussen.nl/event/conversatieles-a2-b1/2026-04-23/
END:VEVENT
BEGIN:VEVENT
DTSTART;TZID=Europe/Amsterdam:20260423T100000
DTEND;TZID=Europe/Amsterdam:20260423T110000
DTSTAMP:20260423T123126
CREATED:20260103T162854Z
LAST-MODIFIED:20260103T162854Z
UID:10025708-1776938400-1776942000@www.demussen.nl
SUMMARY:55+ Fitness
DESCRIPTION:
URL:https://www.demussen.nl/event/55-fitness/2026-04-23/
END:VEVENT
BEGIN:VEVENT
DTSTART;TZID=Europe/Amsterdam:20260423T100000
DTEND;TZID=Europe/Amsterdam:20260423T120000
DTSTAMP:20260423T123126
CREATED:20260104T142515Z
LAST-MODIFIED:20260117T204234Z
UID:10028152-1776938400-1776945600@www.demussen.nl
SUMMARY:Naaiclub
DESCRIPTION:
URL:https://www.demussen.nl/event/naaiclub/2026-04-23/
END:VEVENT
BEGIN:VEVENT
DTSTART;TZID=Europe/Amsterdam:20260423T103000
DTEND;TZID=Europe/Amsterdam:20260423T113000
DTSTAMP:20260423T123126
CREATED:20260103T163130Z
LAST-MODIFIED:20260103T163130Z
UID:10025762-1776940200-1776943800@www.demussen.nl
SUMMARY:Ladies Fit
DESCRIPTION:
URL:https://www.demussen.nl/event/ladies-fit-3/2026-04-23/
END:VEVENT
BEGIN:VEVENT
DTSTART;TZID=Europe/Amsterdam:20260423T114500
DTEND;TZID=Europe/Amsterdam:20260423T123000
DTSTAMP:20260423T123126
CREATED:20260104T135537Z
LAST-MODIFIED:20260113T202231Z
UID:10025184-1776944700-1776947400@www.demussen.nl
SUMMARY:Peutergym
DESCRIPTION:Kom lekker gymmen samen met je peuter!
URL:https://www.demussen.nl/event/peutergym-3-2/2026-04-23/
END:VEVENT
BEGIN:VEVENT
DTSTART;TZID=Europe/Amsterdam:20260423T123000
DTEND;TZID=Europe/Amsterdam:20260423T154500
DTSTAMP:20260423T123126
CREATED:20260104T144724Z
LAST-MODIFIED:20260104T144724Z
UID:10026608-1776947400-1776959100@www.demussen.nl
SUMMARY:Peuteropvang
DESCRIPTION:
URL:https://www.demussen.nl/event/peuteropvang-2/2026-04-23/
END:VEVENT
BEGIN:VEVENT
DTSTART;TZID=Europe/Amsterdam:20260423T130000
DTEND;TZID=Europe/Amsterdam:20260423T140000
DTSTAMP:20260423T123126
CREATED:20260103T163511Z
LAST-MODIFIED:20260103T163511Z
UID:10025816-1776949200-1776952800@www.demussen.nl
SUMMARY:Fietsles
DESCRIPTION:
URL:https://www.demussen.nl/event/fietsles-3/2026-04-23/
END:VEVENT
BEGIN:VEVENT
DTSTART;TZID=Europe/Amsterdam:20260423T131500
DTEND;TZID=Europe/Amsterdam:20260423T141500
DTSTAMP:20260423T123126
CREATED:20260103T163247Z
LAST-MODIFIED:20260103T163247Z
UID:10025789-1776950100-1776953700@www.demussen.nl
SUMMARY:Latin en Egyptisch dansen
DESCRIPTION:
URL:https://www.demussen.nl/event/latin-en-egyptisch-dansen/2026-04-23/
END:VEVENT
BEGIN:VEVENT
DTSTART;TZID=Europe/Amsterdam:20260423T133000
DTEND;TZID=Europe/Amsterdam:20260423T183000
DTSTAMP:20260423T123126
CREATED:20260104T144518Z
LAST-MODIFIED:20260104T150127Z
UID:10026328-1776951000-1776969000@www.demussen.nl
SUMMARY:Naschoolse Opvang
DESCRIPTION:
URL:https://www.demussen.nl/event/bso/2026-04-23/
END:VEVENT
BEGIN:VEVENT
DTSTART;TZID=Europe/Amsterdam:20260423T140000
DTEND;TZID=Europe/Amsterdam:20260423T150000
DTSTAMP:20260423T123126
CREATED:20260103T163606Z
LAST-MODIFIED:20260103T163606Z
UID:10025843-1776952800-1776956400@www.demussen.nl
SUMMARY:Fietsles
DESCRIPTION:
URL:https://www.demussen.nl/event/fietsles-6/2026-04-23/
END:VEVENT
BEGIN:VEVENT
DTSTART;TZID=Europe/Amsterdam:20260423T150000
DTEND;TZID=Europe/Amsterdam:20260423T170000
DTSTAMP:20260423T123126
CREATED:20250826T133911Z
LAST-MODIFIED:20260117T202207Z
UID:10027848-1776956400-1776963600@www.demussen.nl
SUMMARY:Kinderclub
DESCRIPTION:
URL:https://www.demussen.nl/event/kinderclub/2026-04-23/
END:VEVENT
BEGIN:VEVENT
DTSTART;TZID=Europe/Amsterdam:20260423T150000
DTEND;TZID=Europe/Amsterdam:20260423T170000
DTSTAMP:20260423T123126
CREATED:20250828T143506Z
LAST-MODIFIED:20260107T211737Z
UID:10026850-1776956400-1776963600@www.demussen.nl
SUMMARY:Meidenclub
DESCRIPTION:
URL:https://www.demussen.nl/event/meidenclub-5/2026-04-23/
END:VEVENT
BEGIN:VEVENT
DTSTART;TZID=Europe/Amsterdam:20260423T150000
DTEND;TZID=Europe/Amsterdam:20260423T170000
DTSTAMP:20260423T123126
CREATED:20260103T161750Z
LAST-MODIFIED:20260103T161750Z
UID:10025480-1776956400-1776963600@www.demussen.nl
SUMMARY:Fitness
DESCRIPTION:
URL:https://www.demussen.nl/event/fitness-13/2026-04-23/
END:VEVENT
BEGIN:VEVENT
DTSTART;TZID=Europe/Amsterdam:20260423T150000
DTEND;TZID=Europe/Amsterdam:20260423T170000
DTSTAMP:20260423T123126
CREATED:20260117T202256Z
LAST-MODIFIED:20260117T202256Z
UID:10027874-1776956400-1776963600@www.demussen.nl
SUMMARY:TalentenTent! Koken
DESCRIPTION:Voor kinderen van 7-11 jaar
URL:https://www.demussen.nl/event/talententent-koken-2/2026-04-23/
END:VEVENT
BEGIN:VEVENT
DTSTART;TZID=Europe/Amsterdam:20260423T150000
DTEND;TZID=Europe/Amsterdam:20260423T170000
DTSTAMP:20260423T123126
CREATED:20260117T203114Z
LAST-MODIFIED:20260117T203114Z
UID:10027957-1776956400-1776963600@www.demussen.nl
SUMMARY:Kleuterclub
DESCRIPTION:
URL:https://www.demussen.nl/event/kleuterclub-3/2026-04-23/
END:VEVENT
BEGIN:VEVENT
DTSTART;TZID=Europe/Amsterdam:20260423T150000
DTEND;TZID=Europe/Amsterdam:20260423T170000
DTSTAMP:20260423T123126
CREATED:20260117T203632Z
LAST-MODIFIED:20260117T203633Z
UID:10027900-1776956400-1776963600@www.demussen.nl
SUMMARY:Sport en spel
DESCRIPTION:Voor kinderen van 4-6 jaar
URL:https://www.demussen.nl/event/sport-en-spel-2-2-2/2026-04-23/
END:VEVENT
BEGIN:VEVENT
DTSTART;TZID=Europe/Amsterdam:20260423T160000
DTEND;TZID=Europe/Amsterdam:20260423T173000
DTSTAMP:20260423T123126
CREATED:20250826T135438Z
LAST-MODIFIED:20260104T150027Z
UID:10026765-1776960000-1776965400@www.demussen.nl
SUMMARY:Huiswerkbegeleiding
DESCRIPTION:
URL:https://www.demussen.nl/event/huiswerkbegeleiding-2/2026-04-23/
END:VEVENT
END:VCALENDAR