BEGIN:VCALENDAR
VERSION:2.0
PRODID:-//De Mussen - ECPv6.15.20//NONSGML v1.0//EN
CALSCALE:GREGORIAN
METHOD:PUBLISH
X-WR-CALNAME:De Mussen
X-ORIGINAL-URL:https://www.demussen.nl
X-WR-CALDESC:Evenementen voor De Mussen
REFRESH-INTERVAL;VALUE=DURATION:PT1H
X-Robots-Tag:noindex
X-PUBLISHED-TTL:PT1H
BEGIN:VTIMEZONE
TZID:Europe/Amsterdam
BEGIN:DAYLIGHT
TZOFFSETFROM:+0100
TZOFFSETTO:+0200
TZNAME:CEST
DTSTART:20250330T010000
END:DAYLIGHT
BEGIN:STANDARD
TZOFFSETFROM:+0200
TZOFFSETTO:+0100
TZNAME:CET
DTSTART:20251026T010000
END:STANDARD
BEGIN:DAYLIGHT
TZOFFSETFROM:+0100
TZOFFSETTO:+0200
TZNAME:CEST
DTSTART:20260329T010000
END:DAYLIGHT
BEGIN:STANDARD
TZOFFSETFROM:+0200
TZOFFSETTO:+0100
TZNAME:CET
DTSTART:20261025T010000
END:STANDARD
BEGIN:DAYLIGHT
TZOFFSETFROM:+0100
TZOFFSETTO:+0200
TZNAME:CEST
DTSTART:20270328T010000
END:DAYLIGHT
BEGIN:STANDARD
TZOFFSETFROM:+0200
TZOFFSETTO:+0100
TZNAME:CET
DTSTART:20271031T010000
END:STANDARD
END:VTIMEZONE
BEGIN:VEVENT
DTSTART;TZID=Europe/Amsterdam:20260420T083000
DTEND;TZID=Europe/Amsterdam:20260420T114500
DTSTAMP:20260420T201214
CREATED:20260104T144628Z
LAST-MODIFIED:20260104T144628Z
UID:10026465-1776673800-1776685500@www.demussen.nl
SUMMARY:Peuteropvang
DESCRIPTION:
URL:https://www.demussen.nl/event/peuteropvang/2026-04-20/
END:VEVENT
BEGIN:VEVENT
DTSTART;TZID=Europe/Amsterdam:20260420T090000
DTEND;TZID=Europe/Amsterdam:20260420T103000
DTSTAMP:20260420T201214
CREATED:20250814T150843Z
LAST-MODIFIED:20260104T145842Z
UID:10026717-1776675600-1776681000@www.demussen.nl
SUMMARY:Erop uit! Ontmoetingsplek voor ouders en jonge kinderen
DESCRIPTION:Ontmoeting & spelen voor ouders met kinderen van 0 tot 2\,5 jaar
URL:https://www.demussen.nl/event/erop-uit-ontmoetingsplek-voor-ouders-en-jonge-kinderen-3/2026-04-20/
END:VEVENT
BEGIN:VEVENT
DTSTART;TZID=Europe/Amsterdam:20260420T091500
DTEND;TZID=Europe/Amsterdam:20260420T101500
DTSTAMP:20260420T201214
CREATED:20260103T161033Z
LAST-MODIFIED:20260103T161224Z
UID:10025275-1776676500-1776680100@www.demussen.nl
SUMMARY:Fitness
DESCRIPTION:
URL:https://www.demussen.nl/event/fitness-11/2026-04-20/
END:VEVENT
BEGIN:VEVENT
DTSTART;TZID=Europe/Amsterdam:20260420T091500
DTEND;TZID=Europe/Amsterdam:20260420T101500
DTSTAMP:20260420T201214
CREATED:20260103T161511Z
LAST-MODIFIED:20260103T161511Z
UID:10025411-1776676500-1776680100@www.demussen.nl
SUMMARY:Yoga fit
DESCRIPTION:
URL:https://www.demussen.nl/event/yoga-fit/2026-04-20/
END:VEVENT
BEGIN:VEVENT
DTSTART;TZID=Europe/Amsterdam:20260420T101500
DTEND;TZID=Europe/Amsterdam:20260420T111500
DTSTAMP:20260420T201214
CREATED:20260103T161344Z
LAST-MODIFIED:20260104T142851Z
UID:10025359-1776680100-1776683700@www.demussen.nl
SUMMARY:Fitness
DESCRIPTION:
URL:https://www.demussen.nl/event/fitness-12/2026-04-20/
END:VEVENT
BEGIN:VEVENT
DTSTART;TZID=Europe/Amsterdam:20260420T111500
DTEND;TZID=Europe/Amsterdam:20260420T121500
DTSTAMP:20260420T201214
CREATED:20260103T161645Z
LAST-MODIFIED:20260103T161645Z
UID:10025438-1776683700-1776687300@www.demussen.nl
SUMMARY:Yoga kracht en flexibiliteit
DESCRIPTION:
URL:https://www.demussen.nl/event/yoga-kracht-en-flexibiliteit-2/2026-04-20/
END:VEVENT
BEGIN:VEVENT
DTSTART;TZID=Europe/Amsterdam:20260420T123000
DTEND;TZID=Europe/Amsterdam:20260420T140000
DTSTAMP:20260420T201214
CREATED:20260103T160345Z
LAST-MODIFIED:20260103T160345Z
UID:10025248-1776688200-1776693600@www.demussen.nl
SUMMARY:Engelse les
DESCRIPTION:
URL:https://www.demussen.nl/event/engelse-les-2/2026-04-20/
END:VEVENT
BEGIN:VEVENT
DTSTART;TZID=Europe/Amsterdam:20260420T123000
DTEND;TZID=Europe/Amsterdam:20260420T154500
DTSTAMP:20260420T201214
CREATED:20260104T144724Z
LAST-MODIFIED:20260104T144724Z
UID:10026605-1776688200-1776699900@www.demussen.nl
SUMMARY:Peuteropvang
DESCRIPTION:
URL:https://www.demussen.nl/event/peuteropvang-2/2026-04-20/
END:VEVENT
BEGIN:VEVENT
DTSTART;TZID=Europe/Amsterdam:20260420T133000
DTEND;TZID=Europe/Amsterdam:20260420T183000
DTSTAMP:20260420T201214
CREATED:20260104T144518Z
LAST-MODIFIED:20260104T150127Z
UID:10026325-1776691800-1776709800@www.demussen.nl
SUMMARY:Naschoolse Opvang
DESCRIPTION:
URL:https://www.demussen.nl/event/bso/2026-04-20/
END:VEVENT
BEGIN:VEVENT
DTSTART;TZID=Europe/Amsterdam:20260420T150000
DTEND;TZID=Europe/Amsterdam:20260420T170000
DTSTAMP:20260420T201214
CREATED:20250826T133911Z
LAST-MODIFIED:20260117T202207Z
UID:10026955-1776697200-1776704400@www.demussen.nl
SUMMARY:Kinderclub
DESCRIPTION:
URL:https://www.demussen.nl/event/kinderclub/2026-04-20/
END:VEVENT
BEGIN:VEVENT
DTSTART;TZID=Europe/Amsterdam:20260420T150000
DTEND;TZID=Europe/Amsterdam:20260420T170000
DTSTAMP:20260420T201214
CREATED:20250909T095517Z
LAST-MODIFIED:20260109T152151Z
UID:10027191-1776697200-1776704400@www.demussen.nl
SUMMARY:TalentenTent! tekenen en schilderen
DESCRIPTION:Voor kinderen van 4-6 jaar
URL:https://www.demussen.nl/event/talententent-tekenen-en-schilderen/2026-04-20/
END:VEVENT
BEGIN:VEVENT
DTSTART;TZID=Europe/Amsterdam:20260420T150000
DTEND;TZID=Europe/Amsterdam:20260420T170000
DTSTAMP:20260420T201214
CREATED:20250922T090426Z
LAST-MODIFIED:20260109T150623Z
UID:10027041-1776697200-1776704400@www.demussen.nl
SUMMARY:CKV en lezen
DESCRIPTION:voor kinderen van 4-6 jaar
URL:https://www.demussen.nl/event/ckv-en-lezen/2026-04-20/
END:VEVENT
BEGIN:VEVENT
DTSTART;TZID=Europe/Amsterdam:20260420T150000
DTEND;TZID=Europe/Amsterdam:20260420T170000
DTSTAMP:20260420T201214
CREATED:20250925T090419Z
LAST-MODIFIED:20260117T203222Z
UID:10028011-1776697200-1776704400@www.demussen.nl
SUMMARY:Move je buurt
DESCRIPTION:voor 7-11 jaar
URL:https://www.demussen.nl/event/move-je-buurt/2026-04-20/
END:VEVENT
BEGIN:VEVENT
DTSTART;TZID=Europe/Amsterdam:20260420T150000
DTEND;TZID=Europe/Amsterdam:20260420T170000
DTSTAMP:20260420T201214
CREATED:20260103T161750Z
LAST-MODIFIED:20260103T161750Z
UID:10025479-1776697200-1776704400@www.demussen.nl
SUMMARY:Fitness
DESCRIPTION:
URL:https://www.demussen.nl/event/fitness-13/2026-04-20/
END:VEVENT
BEGIN:VEVENT
DTSTART;TZID=Europe/Amsterdam:20260420T150000
DTEND;TZID=Europe/Amsterdam:20260420T170000
DTSTAMP:20260420T201214
CREATED:20260117T203114Z
LAST-MODIFIED:20260117T203114Z
UID:10027955-1776697200-1776704400@www.demussen.nl
SUMMARY:Kleuterclub
DESCRIPTION:
URL:https://www.demussen.nl/event/kleuterclub-3/2026-04-20/
END:VEVENT
BEGIN:VEVENT
DTSTART;TZID=Europe/Amsterdam:20260420T150000
DTEND;TZID=Europe/Amsterdam:20260420T170000
DTSTAMP:20260420T201214
CREATED:20260117T203632Z
LAST-MODIFIED:20260117T203633Z
UID:10028083-1776697200-1776704400@www.demussen.nl
SUMMARY:Sport en spel
DESCRIPTION:Voor kinderen van 4-6 jaar
URL:https://www.demussen.nl/event/sport-en-spel-2-2-2/2026-04-20/
END:VEVENT
BEGIN:VEVENT
DTSTART;TZID=Europe/Amsterdam:20260420T153000
DTEND;TZID=Europe/Amsterdam:20260420T163000
DTSTAMP:20260420T201214
CREATED:20250909T131041Z
LAST-MODIFIED:20260109T152026Z
UID:10027131-1776699000-1776702600@www.demussen.nl
SUMMARY:TalentenTent! Schaken
DESCRIPTION:Voor kinderen van 7-11 jaar
URL:https://www.demussen.nl/event/talententent-schaken/2026-04-20/
END:VEVENT
BEGIN:VEVENT
DTSTART;TZID=Europe/Amsterdam:20260420T170000
DTEND;TZID=Europe/Amsterdam:20260420T183000
DTSTAMP:20260420T201214
CREATED:20260111T212131Z
LAST-MODIFIED:20260111T212131Z
UID:10027308-1776704400-1776709800@www.demussen.nl
SUMMARY:Zaalvoetbal / Soos
DESCRIPTION:
URL:https://www.demussen.nl/event/zaalvoetbal-soos-2/2026-04-20/
END:VEVENT
BEGIN:VEVENT
DTSTART;TZID=Europe/Amsterdam:20260420T180000
DTEND;TZID=Europe/Amsterdam:20260420T220000
DTSTAMP:20260420T201214
CREATED:20260418T195410Z
LAST-MODIFIED:20260418T195410Z
UID:10028761-1776708000-1776722400@www.demussen.nl
SUMMARY:Padellen voor 18+
DESCRIPTION:
URL:https://www.demussen.nl/event/padellen-voor-18/
END:VEVENT
BEGIN:VEVENT
DTSTART;TZID=Europe/Amsterdam:20260420T183000
DTEND;TZID=Europe/Amsterdam:20260420T200000
DTSTAMP:20260420T201214
CREATED:20260111T212238Z
LAST-MODIFIED:20260111T212238Z
UID:10027336-1776709800-1776715200@www.demussen.nl
SUMMARY:Zaalvoetbal / Soos
DESCRIPTION:
URL:https://www.demussen.nl/event/zaalvoetbal-soos-3/2026-04-20/
END:VEVENT
END:VCALENDAR